BEGIN:VCALENDAR
VERSION:2.0
PRODID:-//Confederación Panamericana de Billar - ECPv6.15.20//NONSGML v1.0//EN
CALSCALE:GREGORIAN
METHOD:PUBLISH
X-ORIGINAL-URL:https://cpbillar.net
X-WR-CALDESC:Eventos para Confederación Panamericana de Billar
REFRESH-INTERVAL;VALUE=DURATION:PT1H
X-Robots-Tag:noindex
X-PUBLISHED-TTL:PT1H
BEGIN:VTIMEZONE
TZID:America/New_York
BEGIN:DAYLIGHT
TZOFFSETFROM:-0500
TZOFFSETTO:-0400
TZNAME:EDT
DTSTART:20220313T070000
END:DAYLIGHT
BEGIN:STANDARD
TZOFFSETFROM:-0400
TZOFFSETTO:-0500
TZNAME:EST
DTSTART:20221106T060000
END:STANDARD
BEGIN:DAYLIGHT
TZOFFSETFROM:-0500
TZOFFSETTO:-0400
TZNAME:EDT
DTSTART:20230312T070000
END:DAYLIGHT
BEGIN:STANDARD
TZOFFSETFROM:-0400
TZOFFSETTO:-0500
TZNAME:EST
DTSTART:20231105T060000
END:STANDARD
BEGIN:DAYLIGHT
TZOFFSETFROM:-0500
TZOFFSETTO:-0400
TZNAME:EDT
DTSTART:20240310T070000
END:DAYLIGHT
BEGIN:STANDARD
TZOFFSETFROM:-0400
TZOFFSETTO:-0500
TZNAME:EST
DTSTART:20241103T060000
END:STANDARD
END:VTIMEZONE
BEGIN:VEVENT
DTSTART;VALUE=DATE:20231005
DTEND;VALUE=DATE:20231009
DTSTAMP:20260424T113000
CREATED:20230908T043856Z
LAST-MODIFIED:20230909T032142Z
UID:1718-1696464000-1696809599@cpbillar.net
SUMMARY:Grand Prix 3B - Quilmes 2023
DESCRIPTION:ORGANIZADOR : CLUB SOCIAL Y DEPORTIVO UNION.\nDERECHOS DE : CONFEDERACIÓN PANAMERICANA DE BILLAR\nSEDE DE EVENTO : Club Social y Deportivo Unión. Av. Andrés Baranda 1337 (1878)\nQuilmes. Prov. Bs.As. Argentina\nCATEGORIAS : Abiertas a todos los deportistas\nOBJETIVOS DE LA COMPETENCIA \n\nFomentar la competencia y confraternidad a la región Panamericana.\nPromover\, desarrollar y masificar el deporte del Billar en la región Panamericana.\nOtorgar puntos al Ranking Panamericano de acuerdo a la CPB.\nPremiación en metálico total $ 4.000 dólares americanos más lo recaudado en las inscripciones\n\nPREMIACIÓN \n1° Campeón 34%\n2° Sub Campeón 18%\n3° y 4° lugar 11%\n5° al 8° lugar 4% \n(1)   9° al 16° lugar USD 100 \n(2)  Mayor Promedio Particular USD 100 \n(3)  Mayor Serie USD 100 \n(1) Se premiará en el caso en que se superen 40 inscriptos\n(2\,3) Se premiarán en el caso en que se superen 48 inscriptos \n  \n\nConvocatoria del evento\nRegistro en Online
URL:https://cpbillar.net/eventos/grand-prix-3b-quilmes-2023
LOCATION:CLUB SOCIAL Y DEPORTIVO UNIÓN  QUILMES\, Andres Baranda 1337\, Quilmes\, Argentina
CATEGORIES:Grand Prix 3B
ATTACH;FMTTYPE=image/jpeg:https://cpbillar.net/wp-content/uploads/2023/08/Imagen-Destacada-Quilmes-2023.jpg
END:VEVENT
END:VCALENDAR