BEGIN:VCALENDAR
VERSION:2.0
PRODID:-//Confederación Panamericana de Billar - ECPv6.15.20//NONSGML v1.0//EN
CALSCALE:GREGORIAN
METHOD:PUBLISH
X-WR-CALNAME:Confederación Panamericana de Billar
X-ORIGINAL-URL:https://cpbillar.net
X-WR-CALDESC:Eventos para Confederación Panamericana de Billar
REFRESH-INTERVAL;VALUE=DURATION:PT1H
X-Robots-Tag:noindex
X-PUBLISHED-TTL:PT1H
BEGIN:VTIMEZONE
TZID:America/New_York
BEGIN:DAYLIGHT
TZOFFSETFROM:-0500
TZOFFSETTO:-0400
TZNAME:EDT
DTSTART:20220313T070000
END:DAYLIGHT
BEGIN:STANDARD
TZOFFSETFROM:-0400
TZOFFSETTO:-0500
TZNAME:EST
DTSTART:20221106T060000
END:STANDARD
BEGIN:DAYLIGHT
TZOFFSETFROM:-0500
TZOFFSETTO:-0400
TZNAME:EDT
DTSTART:20230312T070000
END:DAYLIGHT
BEGIN:STANDARD
TZOFFSETFROM:-0400
TZOFFSETTO:-0500
TZNAME:EST
DTSTART:20231105T060000
END:STANDARD
BEGIN:DAYLIGHT
TZOFFSETFROM:-0500
TZOFFSETTO:-0400
TZNAME:EDT
DTSTART:20240310T070000
END:DAYLIGHT
BEGIN:STANDARD
TZOFFSETFROM:-0400
TZOFFSETTO:-0500
TZNAME:EST
DTSTART:20241103T060000
END:STANDARD
END:VTIMEZONE
BEGIN:VEVENT
DTSTART;VALUE=DATE:20231010
DTEND;VALUE=DATE:20231014
DTSTAMP:20260424T114206
CREATED:20230908T051123Z
LAST-MODIFIED:20230909T034808Z
UID:1729-1696896000-1697241599@cpbillar.net
SUMMARY:Grand Prix 3B - Copa Internacional Alamo 2023
DESCRIPTION:Información del Evento\n\nConvocatoria Oficial
URL:https://cpbillar.net/eventos/grand-prix-3b-copa-internacional-alamo-2023
LOCATION:Club Mariano Moreno\, Cap. Gral. Ramón Freire 3151\, Buenos Aires\, Argentina
CATEGORIES:Grand Prix 3B
END:VEVENT
END:VCALENDAR