BEGIN:VCALENDAR
VERSION:2.0
PRODID:-//Confederación Panamericana de Billar - ECPv6.15.20//NONSGML v1.0//EN
CALSCALE:GREGORIAN
METHOD:PUBLISH
X-ORIGINAL-URL:https://cpbillar.net
X-WR-CALDESC:Eventos para Confederación Panamericana de Billar
REFRESH-INTERVAL;VALUE=DURATION:PT1H
X-Robots-Tag:noindex
X-PUBLISHED-TTL:PT1H
BEGIN:VTIMEZONE
TZID:America/New_York
BEGIN:DAYLIGHT
TZOFFSETFROM:-0500
TZOFFSETTO:-0400
TZNAME:EDT
DTSTART:20230312T070000
END:DAYLIGHT
BEGIN:STANDARD
TZOFFSETFROM:-0400
TZOFFSETTO:-0500
TZNAME:EST
DTSTART:20231105T060000
END:STANDARD
BEGIN:DAYLIGHT
TZOFFSETFROM:-0500
TZOFFSETTO:-0400
TZNAME:EDT
DTSTART:20240310T070000
END:DAYLIGHT
BEGIN:STANDARD
TZOFFSETFROM:-0400
TZOFFSETTO:-0500
TZNAME:EST
DTSTART:20241103T060000
END:STANDARD
BEGIN:DAYLIGHT
TZOFFSETFROM:-0500
TZOFFSETTO:-0400
TZNAME:EDT
DTSTART:20250309T070000
END:DAYLIGHT
BEGIN:STANDARD
TZOFFSETFROM:-0400
TZOFFSETTO:-0500
TZNAME:EST
DTSTART:20251102T060000
END:STANDARD
END:VTIMEZONE
BEGIN:VEVENT
DTSTART;VALUE=DATE:20240623
DTEND;VALUE=DATE:20240707
DTSTAMP:20260423T203931
CREATED:20240420T194302Z
LAST-MODIFIED:20240420T195657Z
UID:1992-1719100800-1720310399@cpbillar.net
SUMMARY:Panamericano de Pool Bola 8\, 9\, 10 y Equipos -  Moreno 2024
DESCRIPTION:
URL:https://cpbillar.net/eventos/panamericano-de-pool-bola-8-9-10-y-equipos-moreno-2024
LOCATION:Club Trebol – Moreno\, av bartolome mitre 3080 1744\, Moreno\, Buenos Aires\, Argentina
CATEGORIES:Panamericano Pool
ATTACH;FMTTYPE=image/jpeg:https://cpbillar.net/wp-content/uploads/2024/04/Sala-de-Billar.jpg
END:VEVENT
END:VCALENDAR