BEGIN:VCALENDAR
VERSION:2.0
PRODID:-//Confederación Panamericana de Billar - ECPv6.15.20//NONSGML v1.0//EN
CALSCALE:GREGORIAN
METHOD:PUBLISH
X-ORIGINAL-URL:https://cpbillar.net
X-WR-CALDESC:Eventos para Confederación Panamericana de Billar
REFRESH-INTERVAL;VALUE=DURATION:PT1H
X-Robots-Tag:noindex
X-PUBLISHED-TTL:PT1H
BEGIN:VTIMEZONE
TZID:America/New_York
BEGIN:DAYLIGHT
TZOFFSETFROM:-0500
TZOFFSETTO:-0400
TZNAME:EDT
DTSTART:20230312T070000
END:DAYLIGHT
BEGIN:STANDARD
TZOFFSETFROM:-0400
TZOFFSETTO:-0500
TZNAME:EST
DTSTART:20231105T060000
END:STANDARD
BEGIN:DAYLIGHT
TZOFFSETFROM:-0500
TZOFFSETTO:-0400
TZNAME:EDT
DTSTART:20240310T070000
END:DAYLIGHT
BEGIN:STANDARD
TZOFFSETFROM:-0400
TZOFFSETTO:-0500
TZNAME:EST
DTSTART:20241103T060000
END:STANDARD
BEGIN:DAYLIGHT
TZOFFSETFROM:-0500
TZOFFSETTO:-0400
TZNAME:EDT
DTSTART:20250309T070000
END:DAYLIGHT
BEGIN:STANDARD
TZOFFSETFROM:-0400
TZOFFSETTO:-0500
TZNAME:EST
DTSTART:20251102T060000
END:STANDARD
END:VTIMEZONE
BEGIN:VEVENT
DTSTART;TZID=America/New_York:20240226T080000
DTEND;TZID=America/New_York:20240303T170000
DTSTAMP:20260424T014443
CREATED:20240208T022157Z
LAST-MODIFIED:20240214T191610Z
UID:1796-1708934400-1709485200@cpbillar.net
SUMMARY:Copa Mundo 3B - Colombia 2024
DESCRIPTION:Este certamen es el único que se realiza en nuestro continente\, pues las otras Copa Mundo se desarrollan en Asia y Europa. \nSon 132 deportistas\, representantes de 21 Países\, quienes consiguieron su clasificación a la Copa Mundo mediante el Ranking de la Unión Mundial de Billar. La puntuación de los billaristas corresponde al acumulado de los últimos cuatro años de competencias. \n“Recibimos con alegría y emoción la sede de la Copa Mundo de Billar en Colombia y\, en especial\, aquí en Bogotá. Eso Habla mucho de la buena gestión de la Federación Colombiana de Billar en cabeza de Jorge Franco y nosotros desde el Ministerio estamos ampliamente comprometidos para apoyar todos los eventos”\, algunos de los representantes de Colombia en esta competición son José Juan García\, Daniel Morales y Pedro González. La ocupación en el Coliseo de la Unidad Deportiva El Salitre es de 2500 personas\, por lo que desde el pasado lunes se comenzó la venta de la boletería. Las entradas se pueden adquirir por compras individuales al día o un paquete completo para toda la competición.
URL:https://cpbillar.net/eventos/copa-mundo-3b-colombia-2024
ATTACH;FMTTYPE=image/jpeg:https://cpbillar.net/wp-content/uploads/2024/02/Afiche-2.jpg
END:VEVENT
END:VCALENDAR